BEGIN:VCALENDAR
VERSION:2.0
PRODID:-//Tukios.com/
BEGIN:VEVENT
UID:efea66f8-d36e-46a6-86a3-9130ce1f0e12@www.gaylordfuneralhome.com
DTSTAMP:20260420T212757Z
DTSTART:20260509T150000Z
DTEND:20260509T160000Z
SUMMARY:Celebration of Life
DESCRIPTION:
URL:https://www.gaylordfuneralhome.com/obituaries/joyce-sieger
LOCATION:Gaylord Community Funeral Home & Cremation Service 850 N. Center 
	Ave.  Gaylord MI 49735
GEO:45.0358526;-84.6730891
END:VEVENT
END:VCALENDAR