BEGIN:VCALENDAR
VERSION:2.0
PRODID:-//Tukios.com/
BEGIN:VEVENT
UID:6958f29c-4e0c-4bda-81ee-b21165da2659@www.gaylordfuneralhome.com
DTSTAMP:20260420T213126Z
DTSTART:20260509T140000Z
DTEND:20260509T150000Z
SUMMARY:Visitation
DESCRIPTION:
URL:https://www.gaylordfuneralhome.com/obituaries/joyce-sieger
LOCATION:Gaylord Community Funeral Home & Cremation Service 850 N. Center 
	Ave.  Gaylord MI 49735
GEO:45.0358526;-84.6730891
END:VEVENT
END:VCALENDAR