BEGIN:VCALENDAR
VERSION:2.0
PRODID:-//Tukios.com/
BEGIN:VEVENT
UID:3c245bf0-8435-49ba-838d-e4d3d4e4f6ff@www.gaylordfuneralhome.com
DTSTAMP:20260422T192529Z
DTSTART:20260501T200000Z
DTEND:20260501T230000Z
SUMMARY:Memorial Gathering
DESCRIPTION:
URL:https://www.gaylordfuneralhome.com/obituaries/thomas-allison
LOCATION: 850 N. Center Ave.  Gaylord MI 49735
GEO:45.0358526;-84.6730891
END:VEVENT
END:VCALENDAR